BEGIN:VCALENDAR
VERSION:2.0
PRODID:-//Fleis &amp; VandenBrink - ECPv6.15.20//NONSGML v1.0//EN
CALSCALE:GREGORIAN
METHOD:PUBLISH
X-WR-CALNAME:Fleis &amp; VandenBrink
X-ORIGINAL-URL:https://www.fveng.com
X-WR-CALDESC:Events for Fleis &amp; VandenBrink
REFRESH-INTERVAL;VALUE=DURATION:PT1H
X-Robots-Tag:noindex
X-PUBLISHED-TTL:PT1H
BEGIN:VTIMEZONE
TZID:America/Detroit
BEGIN:DAYLIGHT
TZOFFSETFROM:-0500
TZOFFSETTO:-0400
TZNAME:EDT
DTSTART:20250309T070000
END:DAYLIGHT
BEGIN:STANDARD
TZOFFSETFROM:-0400
TZOFFSETTO:-0500
TZNAME:EST
DTSTART:20251102T060000
END:STANDARD
BEGIN:DAYLIGHT
TZOFFSETFROM:-0500
TZOFFSETTO:-0400
TZNAME:EDT
DTSTART:20260308T070000
END:DAYLIGHT
BEGIN:STANDARD
TZOFFSETFROM:-0400
TZOFFSETTO:-0500
TZNAME:EST
DTSTART:20261101T060000
END:STANDARD
BEGIN:DAYLIGHT
TZOFFSETFROM:-0500
TZOFFSETTO:-0400
TZNAME:EDT
DTSTART:20270314T070000
END:DAYLIGHT
BEGIN:STANDARD
TZOFFSETFROM:-0400
TZOFFSETTO:-0500
TZNAME:EST
DTSTART:20271107T060000
END:STANDARD
END:VTIMEZONE
BEGIN:VEVENT
DTSTART;VALUE=DATE:20260304
DTEND;VALUE=DATE:20260306
DTSTAMP:20260419T112145
CREATED:20251215T201119Z
LAST-MODIFIED:20251215T201119Z
UID:20535-1772582400-1772755199@www.fveng.com
SUMMARY:mParks Conference
DESCRIPTION:
URL:https://www.fveng.com/event/mparks-conference-2/
LOCATION:Lansing Center\, 333 E. Michigan Avenue\, Lansing\, MI\, 48933
END:VEVENT
BEGIN:VEVENT
DTSTART;VALUE=DATE:20260310
DTEND;VALUE=DATE:20260312
DTSTAMP:20260419T112145
CREATED:20251215T201317Z
LAST-MODIFIED:20251215T201501Z
UID:20537-1773100800-1773273599@www.fveng.com
SUMMARY:MML Capital Conference
DESCRIPTION:
URL:https://www.fveng.com/event/mml-capital-conference/
LOCATION:Lansing Center\, 333 E. Michigan Avenue\, Lansing\, MI\, 48933
END:VEVENT
BEGIN:VEVENT
DTSTART;VALUE=DATE:20260311
DTEND;VALUE=DATE:20260313
DTSTAMP:20260419T112145
CREATED:20251215T201747Z
LAST-MODIFIED:20251215T201747Z
UID:20539-1773187200-1773359999@www.fveng.com
SUMMARY:MWEA Biosolids Conference
DESCRIPTION:
URL:https://www.fveng.com/event/mwea-biosolids-conference-3/
LOCATION:Battle Creek\, MI\, Michigan
END:VEVENT
BEGIN:VEVENT
DTSTART;VALUE=DATE:20260317
DTEND;VALUE=DATE:20260319
DTSTAMP:20260419T112145
CREATED:20251215T203309Z
LAST-MODIFIED:20251215T203309Z
UID:20546-1773705600-1773878399@www.fveng.com
SUMMARY:Purdue Road School
DESCRIPTION:
URL:https://www.fveng.com/event/purdue-road-school-3/
LOCATION:Purdue University\, 610 Purdue Mall\, West Lafayette\, IN\, 47907
END:VEVENT
BEGIN:VEVENT
DTSTART;VALUE=DATE:20260317
DTEND;VALUE=DATE:20260320
DTSTAMP:20260419T112145
CREATED:20251215T202023Z
LAST-MODIFIED:20251215T202023Z
UID:20542-1773705600-1773964799@www.fveng.com
SUMMARY:Alliance of IN Rural Water Spring Conference
DESCRIPTION:
URL:https://www.fveng.com/event/alliance-of-in-rural-water-spring-conference/
LOCATION:French Lick Resort\, 8670 West State Road 56\, French Lick\, IN\, 47432
END:VEVENT
BEGIN:VEVENT
DTSTART;VALUE=DATE:20260317
DTEND;VALUE=DATE:20260320
DTSTAMP:20260419T112145
CREATED:20251215T203126Z
LAST-MODIFIED:20251215T203126Z
UID:20544-1773705600-1773964799@www.fveng.com
SUMMARY:MI Bridge Conference
DESCRIPTION:
URL:https://www.fveng.com/event/mi-bridge-conference/
LOCATION:Muskegon\,MI\, Michigan
END:VEVENT
BEGIN:VEVENT
DTSTART;VALUE=DATE:20260317
DTEND;VALUE=DATE:20260321
DTSTAMP:20260419T112145
CREATED:20251215T203554Z
LAST-MODIFIED:20251215T203554Z
UID:20548-1773705600-1774051199@www.fveng.com
SUMMARY:MRWA Annual Conference
DESCRIPTION:
URL:https://www.fveng.com/event/mrwa-annual-conference-3/
LOCATION:Soaring Eagle\, 6800 Soaring Eagle Blvd\, Mt Pleasant\, MI\, 48858
END:VEVENT
BEGIN:VEVENT
DTSTART;VALUE=DATE:20260323
DTEND;VALUE=DATE:20260327
DTSTAMP:20260419T112145
CREATED:20251215T203839Z
LAST-MODIFIED:20251215T203839Z
UID:20550-1774224000-1774569599@www.fveng.com
SUMMARY:IN-AWWA Annual Conference
DESCRIPTION:
URL:https://www.fveng.com/event/in-awwa-annual-conference-3/
LOCATION:Indianapolis\, IN\, Indiana
END:VEVENT
BEGIN:VEVENT
DTSTART;VALUE=DATE:20260324
DTEND;VALUE=DATE:20260327
DTSTAMP:20260419T112145
CREATED:20251215T204740Z
LAST-MODIFIED:20251215T204740Z
UID:20553-1774310400-1774569599@www.fveng.com
SUMMARY:CRA Road Show - Highway Conference
DESCRIPTION:
URL:https://www.fveng.com/event/cra-road-show-highway-conference/
LOCATION:Lansing Center\, 333 E. Michigan Avenue\, Lansing\, MI\, 48933
END:VEVENT
END:VCALENDAR